BEGIN:VCALENDAR
VERSION:2.0
PRODID:-//Kube Events - ECPv6.15.12.2//NONSGML v1.0//EN
CALSCALE:GREGORIAN
METHOD:PUBLISH
X-ORIGINAL-URL:https://kube-events.de
X-WR-CALDESC:Veranstaltungen für Kube Events
REFRESH-INTERVAL;VALUE=DURATION:PT1H
X-Robots-Tag:noindex
X-PUBLISHED-TTL:PT1H
BEGIN:VTIMEZONE
TZID:Europe/Berlin
BEGIN:DAYLIGHT
TZOFFSETFROM:+0100
TZOFFSETTO:+0200
TZNAME:CEST
DTSTART:20190331T010000
END:DAYLIGHT
BEGIN:STANDARD
TZOFFSETFROM:+0200
TZOFFSETTO:+0100
TZNAME:CET
DTSTART:20191027T010000
END:STANDARD
BEGIN:DAYLIGHT
TZOFFSETFROM:+0100
TZOFFSETTO:+0200
TZNAME:CEST
DTSTART:20200329T010000
END:DAYLIGHT
BEGIN:STANDARD
TZOFFSETFROM:+0200
TZOFFSETTO:+0100
TZNAME:CET
DTSTART:20201025T010000
END:STANDARD
BEGIN:DAYLIGHT
TZOFFSETFROM:+0100
TZOFFSETTO:+0200
TZNAME:CEST
DTSTART:20210328T010000
END:DAYLIGHT
BEGIN:STANDARD
TZOFFSETFROM:+0200
TZOFFSETTO:+0100
TZNAME:CET
DTSTART:20211031T010000
END:STANDARD
END:VTIMEZONE
BEGIN:VEVENT
DTSTART;TZID=Europe/Berlin:20200522T000000
DTEND;TZID=Europe/Berlin:20200523T000000
DTSTAMP:20260424T144209
CREATED:20170206T085506Z
LAST-MODIFIED:20200407T082431Z
UID:6023-1590105600-1590192000@kube-events.de
SUMMARY:Zeltdisco in Großmoor mit XANADU
DESCRIPTION:Seid dabei und tanzt zu Euren Wunschhits bis in den frühen Morgen. Wie immer geben wir Euch die absolute Party-Pur Garantie! Vom aktuellen Mainstream über den geliebten Fetenklassiker\, Schlager  bis hin zum heißgeliebten Oldie ist alles dabei.  Unser DJ Marcel legt auf\, was Ihr Euch wünscht! Eine Party mit dem  XANADU-Musik-Express sollte keiner verpassen!
URL:https://kube-events.de/event/zeltdisco-grossmoor-mit-xanadu-22-5-20/
LOCATION:Schützenplatz Großmoor\, Hauptstraße\, Adelheitsdorf-Großmoor\, 29352
CATEGORIES:Veranstaltungskalender
ATTACH;FMTTYPE=image/jpeg:https://kube-events.de/wp-content/uploads/2017/02/Schützenfest-Großmoor-Kopie.jpg
ORGANIZER;CN="Peter Lindemann":MAILTO:info@lindemann-veranstaltungen.de
END:VEVENT
BEGIN:VEVENT
DTSTART;TZID=Europe/Berlin:20200523T000000
DTEND;TZID=Europe/Berlin:20200524T000000
DTSTAMP:20260424T144209
CREATED:20170206T085506Z
LAST-MODIFIED:20200407T082500Z
UID:6022-1590192000-1590278400@kube-events.de
SUMMARY:Schützenfest in Großmoor mit XANADU
DESCRIPTION:Seid dabei und tanzt zu Euren Wunschhits bis in den frühen Morgen. Wie immer geben wir Euch die absolute Party-Pur Garantie! Vom aktuellen Mainstream über den geliebten Fetenklassiker\, Schlager  bis hin zum heißgeliebten Oldie ist alles dabei.  Unser DJ Marcel legt auf\, was Ihr Euch wünscht! Eine Party mit dem  XANADU-Musik-Express sollte keiner verpassen. \n  \n 
URL:https://kube-events.de/event/zeltdisco-grossmoor-mit-xanadu-1-6-19-2/
LOCATION:Schützenplatz Großmoor\, Hauptstraße\, Adelheitsdorf-Großmoor\, 29352
CATEGORIES:Veranstaltungskalender
ATTACH;FMTTYPE=image/jpeg:https://kube-events.de/wp-content/uploads/2017/02/Schützenfest-Großmoor-Kopie.jpg
ORGANIZER;CN="Peter Lindemann":MAILTO:info@lindemann-veranstaltungen.de
END:VEVENT
END:VCALENDAR