BEGIN:VCALENDAR
VERSION:2.0
PRODID:-//Kube Events - ECPv6.15.12.2//NONSGML v1.0//EN
CALSCALE:GREGORIAN
METHOD:PUBLISH
X-WR-CALNAME:Kube Events
X-ORIGINAL-URL:https://kube-events.de
X-WR-CALDESC:Veranstaltungen für Kube Events
REFRESH-INTERVAL;VALUE=DURATION:PT1H
X-Robots-Tag:noindex
X-PUBLISHED-TTL:PT1H
BEGIN:VTIMEZONE
TZID:Europe/Berlin
BEGIN:DAYLIGHT
TZOFFSETFROM:+0100
TZOFFSETTO:+0200
TZNAME:CEST
DTSTART:20180325T010000
END:DAYLIGHT
BEGIN:STANDARD
TZOFFSETFROM:+0200
TZOFFSETTO:+0100
TZNAME:CET
DTSTART:20181028T010000
END:STANDARD
BEGIN:DAYLIGHT
TZOFFSETFROM:+0100
TZOFFSETTO:+0200
TZNAME:CEST
DTSTART:20190331T010000
END:DAYLIGHT
BEGIN:STANDARD
TZOFFSETFROM:+0200
TZOFFSETTO:+0100
TZNAME:CET
DTSTART:20191027T010000
END:STANDARD
BEGIN:DAYLIGHT
TZOFFSETFROM:+0100
TZOFFSETTO:+0200
TZNAME:CEST
DTSTART:20200329T010000
END:DAYLIGHT
BEGIN:STANDARD
TZOFFSETFROM:+0200
TZOFFSETTO:+0100
TZNAME:CET
DTSTART:20201025T010000
END:STANDARD
END:VTIMEZONE
BEGIN:VEVENT
DTSTART;TZID=Europe/Berlin:20191225T210000
DTEND;TZID=Europe/Berlin:20191226T030000
DTSTAMP:20260424T123110
CREATED:20171102T105542Z
LAST-MODIFIED:20191010T070233Z
UID:5957-1577307600-1577329200@kube-events.de
SUMMARY:Weihnachtsparty in Hänigsen
DESCRIPTION:Party pur mit dem XANADU-Musik-Express am 1. Weihnachtsfeiertag in Hänigsen!
URL:https://kube-events.de/event/weihnachtsparty-in-haenigsen-25-12-19/
LOCATION:Hänigsen\, Hoher Weg\, Hänigsen\, Niedersachsen\, 31311\, Deutschland
CATEGORIES:Veranstaltungskalender
ATTACH;FMTTYPE=image/jpeg:https://kube-events.de/wp-content/uploads/2017/11/Weihnachten-Hänigsen-120x90.jpg
ORGANIZER;CN="Festzelbetrieb Koch":MAILTO:info@festzeltbetrieb-koch.de
END:VEVENT
END:VCALENDAR