BEGIN:VCALENDAR
VERSION:2.0
PRODID:-//Kube Events - ECPv6.15.12.2//NONSGML v1.0//EN
CALSCALE:GREGORIAN
METHOD:PUBLISH
X-WR-CALNAME:Kube Events
X-ORIGINAL-URL:https://kube-events.de
X-WR-CALDESC:Veranstaltungen für Kube Events
REFRESH-INTERVAL;VALUE=DURATION:PT1H
X-Robots-Tag:noindex
X-PUBLISHED-TTL:PT1H
BEGIN:VTIMEZONE
TZID:Europe/Berlin
BEGIN:DAYLIGHT
TZOFFSETFROM:+0100
TZOFFSETTO:+0200
TZNAME:CEST
DTSTART:20220327T010000
END:DAYLIGHT
BEGIN:STANDARD
TZOFFSETFROM:+0200
TZOFFSETTO:+0100
TZNAME:CET
DTSTART:20221030T010000
END:STANDARD
BEGIN:DAYLIGHT
TZOFFSETFROM:+0100
TZOFFSETTO:+0200
TZNAME:CEST
DTSTART:20230326T010000
END:DAYLIGHT
BEGIN:STANDARD
TZOFFSETFROM:+0200
TZOFFSETTO:+0100
TZNAME:CET
DTSTART:20231029T010000
END:STANDARD
BEGIN:DAYLIGHT
TZOFFSETFROM:+0100
TZOFFSETTO:+0200
TZNAME:CEST
DTSTART:20240331T010000
END:DAYLIGHT
BEGIN:STANDARD
TZOFFSETFROM:+0200
TZOFFSETTO:+0100
TZNAME:CET
DTSTART:20241027T010000
END:STANDARD
END:VTIMEZONE
BEGIN:VEVENT
DTSTART;TZID=Europe/Berlin:20230513T190000
DTEND;TZID=Europe/Berlin:20230514T030000
DTSTAMP:20260424T073926
CREATED:20161128T102554Z
LAST-MODIFIED:20230222T162704Z
UID:5659-1684004400-1684033200@kube-events.de
SUMMARY:Tanznacht in Alvesse
DESCRIPTION:Das Event für diejenigen\, die auch gerne zu zweit tanzen.\nFür euch legt DJ Jörg Tanzmusik vom aktuellen Chartstürmer bis zum heißgeliebten Oldie auf!
URL:https://kube-events.de/event/tanzabend-in-alvesse-18-5-19/
LOCATION:Festzelt Alvesse\, Alvesse\, 31234
CATEGORIES:Veranstaltungskalender
ATTACH;FMTTYPE=image/jpeg:https://kube-events.de/wp-content/uploads/2016/11/Alvesse-Tanznacht.jpg
ORGANIZER;CN="Kube-Events":MAILTO:mail@kube-events.de
END:VEVENT
END:VCALENDAR