BEGIN:VCALENDAR
VERSION:2.0
PRODID:-//Kube Events - ECPv6.15.12.2//NONSGML v1.0//EN
CALSCALE:GREGORIAN
METHOD:PUBLISH
X-WR-CALNAME:Kube Events
X-ORIGINAL-URL:https://kube-events.de
X-WR-CALDESC:Veranstaltungen für Kube Events
REFRESH-INTERVAL;VALUE=DURATION:PT1H
X-Robots-Tag:noindex
X-PUBLISHED-TTL:PT1H
BEGIN:VTIMEZONE
TZID:Europe/Berlin
BEGIN:DAYLIGHT
TZOFFSETFROM:+0100
TZOFFSETTO:+0200
TZNAME:CEST
DTSTART:20220327T010000
END:DAYLIGHT
BEGIN:STANDARD
TZOFFSETFROM:+0200
TZOFFSETTO:+0100
TZNAME:CET
DTSTART:20221030T010000
END:STANDARD
BEGIN:DAYLIGHT
TZOFFSETFROM:+0100
TZOFFSETTO:+0200
TZNAME:CEST
DTSTART:20230326T010000
END:DAYLIGHT
BEGIN:STANDARD
TZOFFSETFROM:+0200
TZOFFSETTO:+0100
TZNAME:CET
DTSTART:20231029T010000
END:STANDARD
BEGIN:DAYLIGHT
TZOFFSETFROM:+0100
TZOFFSETTO:+0200
TZNAME:CEST
DTSTART:20240331T010000
END:DAYLIGHT
BEGIN:STANDARD
TZOFFSETFROM:+0200
TZOFFSETTO:+0100
TZNAME:CET
DTSTART:20241027T010000
END:STANDARD
BEGIN:DAYLIGHT
TZOFFSETFROM:+0100
TZOFFSETTO:+0200
TZNAME:CEST
DTSTART:20250330T010000
END:DAYLIGHT
BEGIN:STANDARD
TZOFFSETFROM:+0200
TZOFFSETTO:+0100
TZNAME:CET
DTSTART:20251026T010000
END:STANDARD
END:VTIMEZONE
BEGIN:VEVENT
DTSTART;TZID=Europe/Berlin:20231231T190000
DTEND;TZID=Europe/Berlin:20240101T050000
DTSTAMP:20260419T222453
CREATED:20191104T110202Z
LAST-MODIFIED:20230308T133934Z
UID:5976-1704049200-1704085200@kube-events.de
SUMMARY:Silvesterparty in Wathlingen
DESCRIPTION:Begrüßt mit uns das Jahr 2024 im 4 Generationen Park. \nSeid dabei und feiert mit unserem DJ Thomas zu den besten Hits aller Zeiten\, bis die Füße qualmen! \n  \n*Anmeldung über 4-G-Park Wathlingen
URL:https://kube-events.de/event/silvesterparty-in-wathlingen-2019/
LOCATION:4 Generationen Park\, Kantallee 8\, Wathlingen\, 29339
CATEGORIES:Veranstaltungskalender
ATTACH;FMTTYPE=image/jpeg:https://kube-events.de/wp-content/uploads/2019/11/Silvester-Wathlingen-Kopie.jpg
ORGANIZER;CN="4 Generationen Park":MAILTO:info@4gpark.de
END:VEVENT
END:VCALENDAR