BEGIN:VCALENDAR
VERSION:2.0
PRODID:-//Kube Events - ECPv6.15.12.2//NONSGML v1.0//EN
CALSCALE:GREGORIAN
METHOD:PUBLISH
X-WR-CALNAME:Kube Events
X-ORIGINAL-URL:https://kube-events.de
X-WR-CALDESC:Veranstaltungen für Kube Events
REFRESH-INTERVAL;VALUE=DURATION:PT1H
X-Robots-Tag:noindex
X-PUBLISHED-TTL:PT1H
BEGIN:VTIMEZONE
TZID:Europe/Berlin
BEGIN:DAYLIGHT
TZOFFSETFROM:+0100
TZOFFSETTO:+0200
TZNAME:CEST
DTSTART:20220327T010000
END:DAYLIGHT
BEGIN:STANDARD
TZOFFSETFROM:+0200
TZOFFSETTO:+0100
TZNAME:CET
DTSTART:20221030T010000
END:STANDARD
BEGIN:DAYLIGHT
TZOFFSETFROM:+0100
TZOFFSETTO:+0200
TZNAME:CEST
DTSTART:20230326T010000
END:DAYLIGHT
BEGIN:STANDARD
TZOFFSETFROM:+0200
TZOFFSETTO:+0100
TZNAME:CET
DTSTART:20231029T010000
END:STANDARD
BEGIN:DAYLIGHT
TZOFFSETFROM:+0100
TZOFFSETTO:+0200
TZNAME:CEST
DTSTART:20240331T010000
END:DAYLIGHT
BEGIN:STANDARD
TZOFFSETFROM:+0200
TZOFFSETTO:+0100
TZNAME:CET
DTSTART:20241027T010000
END:STANDARD
END:VTIMEZONE
BEGIN:VEVENT
DTSTART;TZID=Europe/Berlin:20230401T151600
DTEND;TZID=Europe/Berlin:20231231T000000
DTSTAMP:20260420T213144
CREATED:20230331T220015Z
LAST-MODIFIED:20230412T152817Z
UID:6261-1680362160-1703980800@kube-events.de
SUMMARY:Aktuelle Eventübersicht
DESCRIPTION:
URL:https://kube-events.de/event/6261/
LOCATION:Kubus\, Oheweg 3\, Müden / Aller\, 38539
END:VEVENT
BEGIN:VEVENT
DTSTART;TZID=Europe/Berlin:20231028T210000
DTEND;TZID=Europe/Berlin:20231029T030000
DTSTAMP:20260420T213144
CREATED:20231007T082628Z
LAST-MODIFIED:20231011T121640Z
UID:6299-1698526800-1698548400@kube-events.de
SUMMARY:Ü 30 Fete in Peine am 28.10.23
DESCRIPTION:Feiert bis in die frühen Morgenstunden mit den besten Hits aller Zeiten!
URL:https://kube-events.de/event/ue-30-fete-in-peine-am-28-10-23/
LOCATION:Bürger-Jäger-Heim\, Beethovenstraße 6 Peine
CATEGORIES:Veranstaltungskalender
ATTACH;FMTTYPE=image/jpeg:https://kube-events.de/wp-content/uploads/2023/10/Ue30-peine-256x256-Kopie-1.jpg
END:VEVENT
END:VCALENDAR