BEGIN:VCALENDAR
VERSION:2.0
PRODID:-//Kube Events - ECPv6.15.12.2//NONSGML v1.0//EN
CALSCALE:GREGORIAN
METHOD:PUBLISH
X-ORIGINAL-URL:https://kube-events.de
X-WR-CALDESC:Veranstaltungen für Kube Events
REFRESH-INTERVAL;VALUE=DURATION:PT1H
X-Robots-Tag:noindex
X-PUBLISHED-TTL:PT1H
BEGIN:VTIMEZONE
TZID:Europe/Berlin
BEGIN:DAYLIGHT
TZOFFSETFROM:+0100
TZOFFSETTO:+0200
TZNAME:CEST
DTSTART:20220327T010000
END:DAYLIGHT
BEGIN:STANDARD
TZOFFSETFROM:+0200
TZOFFSETTO:+0100
TZNAME:CET
DTSTART:20221030T010000
END:STANDARD
BEGIN:DAYLIGHT
TZOFFSETFROM:+0100
TZOFFSETTO:+0200
TZNAME:CEST
DTSTART:20230326T010000
END:DAYLIGHT
BEGIN:STANDARD
TZOFFSETFROM:+0200
TZOFFSETTO:+0100
TZNAME:CET
DTSTART:20231029T010000
END:STANDARD
BEGIN:DAYLIGHT
TZOFFSETFROM:+0100
TZOFFSETTO:+0200
TZNAME:CEST
DTSTART:20240331T010000
END:DAYLIGHT
BEGIN:STANDARD
TZOFFSETFROM:+0200
TZOFFSETTO:+0100
TZNAME:CET
DTSTART:20241027T010000
END:STANDARD
END:VTIMEZONE
BEGIN:VEVENT
DTSTART;TZID=Europe/Berlin:20230401T151600
DTEND;TZID=Europe/Berlin:20231231T000000
DTSTAMP:20260421T050535
CREATED:20230331T220015Z
LAST-MODIFIED:20230412T152817Z
UID:6261-1680362160-1703980800@kube-events.de
SUMMARY:Aktuelle Eventübersicht
DESCRIPTION:
URL:https://kube-events.de/event/6261/
LOCATION:Kubus\, Oheweg 3\, Müden / Aller\, 38539
END:VEVENT
BEGIN:VEVENT
DTSTART;TZID=Europe/Berlin:20230812T210000
DTEND;TZID=Europe/Berlin:20230813T030000
DTSTAMP:20260421T050535
CREATED:20230331T161144Z
LAST-MODIFIED:20230331T161144Z
UID:6251-1691874000-1691895600@kube-events.de
SUMMARY:Xanadu Zeltdisco in Elze
DESCRIPTION:Party pur mit dem Xanadu- Musikexpress! Wir spielen was euch gefällt! Seid dabei!!!
URL:https://kube-events.de/event/xanadu-zeltdisco-in-elze/
LOCATION:Festplatz Elze
CATEGORIES:Veranstaltungskalender
END:VEVENT
BEGIN:VEVENT
DTSTART;TZID=Europe/Berlin:20230818T170000
DTEND;TZID=Europe/Berlin:20230819T020000
DTSTAMP:20260421T050535
CREATED:20230728T152656Z
LAST-MODIFIED:20230728T152656Z
UID:6273-1692378000-1692410400@kube-events.de
SUMMARY:Altstadtfest Gifhorn 2023 Kube Events/ Bühne Schillerplatz
DESCRIPTION:Mega- Xanadu- Party am Schillerplatz \n\n17:00 Uhr bis 19:00 Uhr Vorprogramm mit Jörg von Kube- Events\n19:00 Uhr bis 24:00 Uhr Mega- Xanadu- Party mit Livemusik von der Band  „On the Rocks“- im Wechsel mit DJ Jörg von Kube- Events
URL:https://kube-events.de/event/altstadtfest-gifhorn-2023-kube-events-buehne-schillerplatz/
LOCATION:Altstadtfest Gifhorn\, Schillerplatz\, Gifhorn\, 38518\, Deutschland
ATTACH;FMTTYPE=image/jpeg:https://kube-events.de/wp-content/uploads/2023/07/Altstadtfest-On-the-Rocks.jpeg
END:VEVENT
BEGIN:VEVENT
DTSTART;TZID=Europe/Berlin:20230819T170000
DTEND;TZID=Europe/Berlin:20230820T020000
DTSTAMP:20260421T050535
CREATED:20230728T155118Z
LAST-MODIFIED:20230728T155118Z
UID:6284-1692464400-1692496800@kube-events.de
SUMMARY:Altstadtfest Gifhorn 2023 Kube Events/ Bühne Schillerplatz
DESCRIPTION:Die Große Xanadu-Ü30-Party am Schillerplatz \n\n17:00 Uhr bis 19:00 Uhr Vorprogramm mit DJ Jörg von Kube Events\n19:00 Uhr bis 24:00 Uhr Xanadu-Ü30-Party mit der Band „Sound Traffic“- im Wechsel mit DJ Jörg von Kube Events
URL:https://kube-events.de/event/altstadtfest-gifhorn-2023-kube-events-buehne-schillerplatz-2/
LOCATION:Altstadtfest Gifhorn\, Schillerplatz\, Gifhorn\, 38518\, Deutschland
ATTACH;FMTTYPE=image/jpeg:https://kube-events.de/wp-content/uploads/2023/07/Altstadtfest-sound-traffic-2.jpeg
END:VEVENT
BEGIN:VEVENT
DTSTART;TZID=Europe/Berlin:20230819T200000
DTEND;TZID=Europe/Berlin:20230820T050000
DTSTAMP:20260421T050535
CREATED:20170206T115309Z
LAST-MODIFIED:20230308T133203Z
UID:5921-1692475200-1692507600@kube-events.de
SUMMARY:Schützenfest Hänigsen mit XANADU
DESCRIPTION:Eine der besten Partys des Jahres feierst du in Hänigsen!!!!! \nMit Party-Pur-Garantie. Vom aktuellen Mainstream bis zum geliebten Fetenklassiker. Deine\nMusikwünsche\, deine Party.\nSei dabei!
URL:https://kube-events.de/event/zeltdisco-haenigsen-mit-xanadu-19-8-19/
LOCATION:Hänigsen\, Hoher Weg\, Hänigsen\, Niedersachsen\, 31311\, Deutschland
CATEGORIES:Veranstaltungskalender
ATTACH;FMTTYPE=image/jpeg:https://kube-events.de/wp-content/uploads/2017/02/Hänigsen.jpg
END:VEVENT
BEGIN:VEVENT
DTSTART;TZID=Europe/Berlin:20230820T140000
DTEND;TZID=Europe/Berlin:20230820T180000
DTSTAMP:20260421T050535
CREATED:20230728T155633Z
LAST-MODIFIED:20230728T155633Z
UID:6287-1692540000-1692554400@kube-events.de
SUMMARY:Altstadtfest Gifhorn 2023 Kube Events/ Bühne Schillerplatz
DESCRIPTION:Rock- Party am Schillerplatz \n\nab 14:00 Uhr bis 18:00 Uhr „Four Roses“ live
URL:https://kube-events.de/event/altstadtfest-gifhorn-2023-kube-events-buehne-schillerplatz-3/
LOCATION:Altstadtfest Gifhorn\, Schillerplatz\, Gifhorn\, 38518\, Deutschland
ATTACH;FMTTYPE=image/jpeg:https://kube-events.de/wp-content/uploads/2023/07/Altstadtfest-Four-Roses.jpeg
END:VEVENT
BEGIN:VEVENT
DTSTART;TZID=Europe/Berlin:20230820T160000
DTEND;TZID=Europe/Berlin:20230821T010000
DTSTAMP:20260421T050535
CREATED:20220422T134742Z
LAST-MODIFIED:20230308T133407Z
UID:6111-1692547200-1692579600@kube-events.de
SUMMARY:Xanadu Zeltdisco Hänigsen
DESCRIPTION:Und es geht weiter! \nSei dabei!
URL:https://kube-events.de/event/xanadu-zeltdisko-haenigsen/
LOCATION:Schützenplatz in Hänigsen\, Uetze-Hänigsen\, 31311
CATEGORIES:Veranstaltungskalender
END:VEVENT
END:VCALENDAR