BEGIN:VCALENDAR
VERSION:2.0
PRODID:-//Kube Events - ECPv6.15.12.2//NONSGML v1.0//EN
CALSCALE:GREGORIAN
METHOD:PUBLISH
X-ORIGINAL-URL:https://kube-events.de
X-WR-CALDESC:Veranstaltungen für Kube Events
REFRESH-INTERVAL;VALUE=DURATION:PT1H
X-Robots-Tag:noindex
X-PUBLISHED-TTL:PT1H
BEGIN:VTIMEZONE
TZID:Europe/Berlin
BEGIN:DAYLIGHT
TZOFFSETFROM:+0100
TZOFFSETTO:+0200
TZNAME:CEST
DTSTART:20230326T010000
END:DAYLIGHT
BEGIN:STANDARD
TZOFFSETFROM:+0200
TZOFFSETTO:+0100
TZNAME:CET
DTSTART:20231029T010000
END:STANDARD
BEGIN:DAYLIGHT
TZOFFSETFROM:+0100
TZOFFSETTO:+0200
TZNAME:CEST
DTSTART:20240331T010000
END:DAYLIGHT
BEGIN:STANDARD
TZOFFSETFROM:+0200
TZOFFSETTO:+0100
TZNAME:CET
DTSTART:20241027T010000
END:STANDARD
BEGIN:DAYLIGHT
TZOFFSETFROM:+0100
TZOFFSETTO:+0200
TZNAME:CEST
DTSTART:20250330T010000
END:DAYLIGHT
BEGIN:STANDARD
TZOFFSETFROM:+0200
TZOFFSETTO:+0100
TZNAME:CET
DTSTART:20251026T010000
END:STANDARD
END:VTIMEZONE
BEGIN:VEVENT
DTSTART;TZID=Europe/Berlin:20240224T210000
DTEND;TZID=Europe/Berlin:20240224T210000
DTSTAMP:20260419T184347
CREATED:20240205T101209Z
LAST-MODIFIED:20240205T103518Z
UID:6323-1708808400-1708808400@kube-events.de
SUMMARY:Ü30 Fete Peine Ladies Special
DESCRIPTION:Am Samstag\, den 24.02.2024 ab 21 Uhr heißt es wieder:\nRunter vom Sofa und ab zur Ü30 Fete Peine!\nWo? Im Bürger-Jäger-Heim in Peine.\nHeute kommen die Ladys auf ihre kosten.\nErmäßigter Eintritt für alle Ladys bis 22 Uhr!\nNatürlich wie immer mit den besten Chartbreakern\nvon heute und wirklich nur den allerbesten Hits\nder 70er/80er/90er und 2000er Jahre.\nWir freuen uns auf EUCH
URL:https://kube-events.de/event/ue30-fete-peine-ladies-special/
LOCATION:Bürger-Jäger-Heim\, Beethovenstraße 6 Peine
CATEGORIES:Veranstaltungskalender
ATTACH;FMTTYPE=image/png:https://kube-events.de/wp-content/uploads/2024/02/Teaser-Ue30-Ladys-Special-2024.png
END:VEVENT
END:VCALENDAR