BEGIN:VCALENDAR
VERSION:2.0
PRODID:-//Kube Events - ECPv6.15.12.2//NONSGML v1.0//EN
CALSCALE:GREGORIAN
METHOD:PUBLISH
X-ORIGINAL-URL:https://kube-events.de
X-WR-CALDESC:Veranstaltungen für Kube Events
REFRESH-INTERVAL;VALUE=DURATION:PT1H
X-Robots-Tag:noindex
X-PUBLISHED-TTL:PT1H
BEGIN:VTIMEZONE
TZID:Europe/Berlin
BEGIN:DAYLIGHT
TZOFFSETFROM:+0100
TZOFFSETTO:+0200
TZNAME:CEST
DTSTART:20220327T010000
END:DAYLIGHT
BEGIN:STANDARD
TZOFFSETFROM:+0200
TZOFFSETTO:+0100
TZNAME:CET
DTSTART:20221030T010000
END:STANDARD
BEGIN:DAYLIGHT
TZOFFSETFROM:+0100
TZOFFSETTO:+0200
TZNAME:CEST
DTSTART:20230326T010000
END:DAYLIGHT
BEGIN:STANDARD
TZOFFSETFROM:+0200
TZOFFSETTO:+0100
TZNAME:CET
DTSTART:20231029T010000
END:STANDARD
BEGIN:DAYLIGHT
TZOFFSETFROM:+0100
TZOFFSETTO:+0200
TZNAME:CEST
DTSTART:20240331T010000
END:DAYLIGHT
BEGIN:STANDARD
TZOFFSETFROM:+0200
TZOFFSETTO:+0100
TZNAME:CET
DTSTART:20241027T010000
END:STANDARD
END:VTIMEZONE
BEGIN:VEVENT
DTSTART;TZID=Europe/Berlin:20230401T151600
DTEND;TZID=Europe/Berlin:20231231T000000
DTSTAMP:20260420T193931
CREATED:20230331T220015Z
LAST-MODIFIED:20230412T152817Z
UID:6261-1680362160-1703980800@kube-events.de
SUMMARY:Aktuelle Eventübersicht
DESCRIPTION:
URL:https://kube-events.de/event/6261/
LOCATION:Kubus\, Oheweg 3\, Müden / Aller\, 38539
END:VEVENT
BEGIN:VEVENT
DTSTART;TZID=Europe/Berlin:20231225T210000
DTEND;TZID=Europe/Berlin:20231226T030000
DTSTAMP:20260420T193931
CREATED:20230331T162205Z
LAST-MODIFIED:20231011T121110Z
UID:6257-1703538000-1703559600@kube-events.de
SUMMARY:Weihnachts-Party- Hänigsen
DESCRIPTION:Mit  aktuellen Hits\, Schlagern\, Fetenhits oder Oldies aus der Konserve\, wird das Xanadu DJ Team mit diesem Mix für beste Stimmung sorgen!!!
URL:https://kube-events.de/event/weihnachts-party-haenigsen/
LOCATION:Festplatz Hänigsen
CATEGORIES:Veranstaltungskalender
ATTACH;FMTTYPE=image/jpeg:https://kube-events.de/wp-content/uploads/2017/11/Weihnachten-Hänigsen-120x90.jpg
END:VEVENT
BEGIN:VEVENT
DTSTART;TZID=Europe/Berlin:20231226T210000
DTEND;TZID=Europe/Berlin:20231227T030000
DTSTAMP:20260420T193931
CREATED:20231207T121914Z
LAST-MODIFIED:20231212T125220Z
UID:6315-1703624400-1703646000@kube-events.de
SUMMARY:Ü30- Fete "Weihnachts- Special" im Bürger-Jäger-Heim in Peine
DESCRIPTION:Frei nach dem Motto „Die Weihnachtsgans wird weggetanzt“ gibt es in diesem Jahr\, eure Ü30 Fete zum Feiern\, Flirten und Abtanzen\, am 2. Weihnachtstag!!!
URL:https://kube-events.de/event/ue30-fete-weihnachts-special/
LOCATION:Bürger-Jäger-Heim\, Beethovenstraße 6 Peine
CATEGORIES:Veranstaltungskalender
ATTACH;FMTTYPE=image/jpeg:https://kube-events.de/wp-content/uploads/2017/12/Vorlage-Facebook-Ü30-Peine-Weihnachten.jpg
END:VEVENT
END:VCALENDAR